BEGIN:VCALENDAR
VERSION:2.0
PRODID:-//CSA95 - ECPv6.1.3//NONSGML v1.0//EN
CALSCALE:GREGORIAN
METHOD:PUBLISH
X-ORIGINAL-URL:https://www.csa95.com
X-WR-CALDESC:évènements pour CSA95
REFRESH-INTERVAL;VALUE=DURATION:PT1H
X-Robots-Tag:noindex
X-PUBLISHED-TTL:PT1H
BEGIN:VTIMEZONE
TZID:Europe/Paris
BEGIN:DAYLIGHT
TZOFFSETFROM:+0100
TZOFFSETTO:+0200
TZNAME:CEST
DTSTART:20240331T010000
END:DAYLIGHT
BEGIN:STANDARD
TZOFFSETFROM:+0200
TZOFFSETTO:+0100
TZNAME:CET
DTSTART:20241027T010000
END:STANDARD
END:VTIMEZONE
BEGIN:VEVENT
DTSTART;TZID=Europe/Paris:20240427T093000
DTEND;TZID=Europe/Paris:20240427T123000
DTSTAMP:20260421T135118
CREATED:20240417T100640Z
LAST-MODIFIED:20240417T101218Z
UID:16478-1714210200-1714221000@www.csa95.com
SUMMARY:2èmes assises des associations / Pontoise
DESCRIPTION:Formation Le B.A BA pour bien communiquer sur son association\n1. Principes de la communication\n• Les enjeux\n• Le diagnostic\n2. Mettre en place sa communication\n• Les principes\n• La stratégie\n• Le plan de communication\n• Le logo\n• La charte graphique\n3. La communication interne\n• Un outil de ressources humaines\n• Quand communiquer\n• Mesurer l’impact\n• Les supports\n4. La communication externe\n• Les supports imprimés : affiches\, flyers\, plaquette\, journal\, communiqué de presse…\n• Les mentions légales\n• Les logiciels de mise en page\n• Les supports web : la newsletter\, le site internet\, les réseaux sociaux\n5. La communication vers les partenaires\n• Le dossier partenaires\n• Le financement participatif
URL:https://www.csa95.com/agenda/2emes-assises-des-associations-pontoise/
LOCATION:7 Place du Petit Martroy Pontoise\, 7 Place du Petit Martroy\, Pontoise\, 95300\, France
CATEGORIES:Actus,Formation,Formation Pontoise,Rendez-Vous Associatif
ATTACH;FMTTYPE=image/jpeg:https://www.csa95.com/wp-content/uploads/2024/04/Logo_Pontoise-scaled.jpg
END:VEVENT
END:VCALENDAR