BEGIN:VCALENDAR
VERSION:2.0
PRODID:-//CSA95 - ECPv6.1.3//NONSGML v1.0//EN
CALSCALE:GREGORIAN
METHOD:PUBLISH
X-WR-CALNAME:CSA95
X-ORIGINAL-URL:https://www.csa95.com
X-WR-CALDESC:évènements pour CSA95
REFRESH-INTERVAL;VALUE=DURATION:PT1H
X-Robots-Tag:noindex
X-PUBLISHED-TTL:PT1H
BEGIN:VTIMEZONE
TZID:Europe/Paris
BEGIN:DAYLIGHT
TZOFFSETFROM:+0100
TZOFFSETTO:+0200
TZNAME:CEST
DTSTART:20200329T010000
END:DAYLIGHT
BEGIN:STANDARD
TZOFFSETFROM:+0200
TZOFFSETTO:+0100
TZNAME:CET
DTSTART:20201025T010000
END:STANDARD
END:VTIMEZONE
BEGIN:VEVENT
DTSTART;TZID=Europe/Paris:20201125T100000
DTEND;TZID=Europe/Paris:20201125T113000
DTSTAMP:20260426T032914
CREATED:20201115T154337Z
LAST-MODIFIED:20210825T095720Z
UID:15203-1606298400-1606303800@www.csa95.com
SUMMARY:Maintenir votre activité associative en période de crise sanitaire
DESCRIPTION:Ce webinaire abordera toutes les modalités et les outils qui vous permettront de maintenir\nl’activité de votre association et d’organiser vos assemblées générales et réunions statutaires à distance \n  \nInscrivez-vous
URL:https://www.csa95.com/agenda/maintenir-votre-activite-associative-en-periode-de-crise-sanitaire/
CATEGORIES:Rendez-Vous Associatif
ATTACH;FMTTYPE=image/jpeg:https://www.csa95.com/wp-content/uploads/2020/11/webinar-25-nov-entete2.jpg
ORGANIZER;CN="CSA95":MAILTO:contact@csa95.adz-preprod.fr
END:VEVENT
END:VCALENDAR