BEGIN:VCALENDAR
VERSION:2.0
PRODID:-//CSA95 - ECPv6.1.3//NONSGML v1.0//EN
CALSCALE:GREGORIAN
METHOD:PUBLISH
X-WR-CALNAME:CSA95
X-ORIGINAL-URL:https://www.csa95.com
X-WR-CALDESC:évènements pour CSA95
REFRESH-INTERVAL;VALUE=DURATION:PT1H
X-Robots-Tag:noindex
X-PUBLISHED-TTL:PT1H
BEGIN:VTIMEZONE
TZID:Europe/Paris
BEGIN:DAYLIGHT
TZOFFSETFROM:+0100
TZOFFSETTO:+0200
TZNAME:CEST
DTSTART:20180325T010000
END:DAYLIGHT
BEGIN:STANDARD
TZOFFSETFROM:+0200
TZOFFSETTO:+0100
TZNAME:CET
DTSTART:20181028T010000
END:STANDARD
END:VTIMEZONE
BEGIN:VEVENT
DTSTART;TZID=Europe/Paris:20181010T100000
DTEND;TZID=Europe/Paris:20181010T190000
DTSTAMP:20260423T091329
CREATED:20180830T115743Z
LAST-MODIFIED:20180830T115743Z
UID:13362-1539165600-1539198000@www.csa95.com
SUMMARY:Permanence Dossiers de subventions Argenteuil
DESCRIPTION:Une heure une association pour un accompagnement dans l’élaboration d’un dossier de subvention \nEt ce par l’identification de l’association\, la nature et l’objet de la demande. \nPar une vue sur les relations avec l’administration ainsi que d’autres associations \nEt aussi par l’évaluation du budget et moyens humains de l’association. \nUne heure pour faire le bilan de tous les éléments qui permettrons d’avoir un dossier complet
URL:https://www.csa95.com/agenda/permanence-dossiers-de-subventions-argenteuil-2/
LOCATION:Maison des associations d’Argenteuil\, Rue Albert Robidat\, Argenteuil\, Val d'Oise\, 95100\, France
CATEGORIES:Permanence Argenteuil,Permanences
ATTACH;FMTTYPE=image/png:https://www.csa95.com/wp-content/uploads/2018/04/logo-front-e1709134299231.png
ORGANIZER;CN="Mairie%20Argenteuil":MAILTO:lamaisondesassociations@ville-argenteuil.fr
END:VEVENT
END:VCALENDAR