BEGIN:VCALENDAR
VERSION:2.0
PRODID:-//CSA95 - ECPv6.1.3//NONSGML v1.0//EN
CALSCALE:GREGORIAN
METHOD:PUBLISH
X-WR-CALNAME:CSA95
X-ORIGINAL-URL:https://www.csa95.com
X-WR-CALDESC:évènements pour CSA95
REFRESH-INTERVAL;VALUE=DURATION:PT1H
X-Robots-Tag:noindex
X-PUBLISHED-TTL:PT1H
BEGIN:VTIMEZONE
TZID:Europe/Paris
BEGIN:DAYLIGHT
TZOFFSETFROM:+0100
TZOFFSETTO:+0200
TZNAME:CEST
DTSTART:20180325T010000
END:DAYLIGHT
BEGIN:STANDARD
TZOFFSETFROM:+0200
TZOFFSETTO:+0100
TZNAME:CET
DTSTART:20181028T010000
END:STANDARD
END:VTIMEZONE
BEGIN:VEVENT
DTSTART;TZID=Europe/Paris:20181018T150000
DTEND;TZID=Europe/Paris:20181018T190000
DTSTAMP:20260423T133253
CREATED:20180830T121853Z
LAST-MODIFIED:20180830T121853Z
UID:13380-1539874800-1539889200@www.csa95.com
SUMMARY:Permanence Comptabilité Associative
DESCRIPTION:Une permanence comptabilité à destination des associations de la commune de Cergy. \nUne heure par porteur de projet pour professionnaliser leur pratique et formaliser leur comptabilité. \nLes points abordés : \nComment produire son budget prévisionnel\, son compte de résultat et son bilan comptable.
URL:https://www.csa95.com/agenda/permanence-comptabilite-associative-4/
LOCATION:mairie Cergy\, 3 Place Olympe de Gouges\, Cergy\, Val d'oise\, 95800\, France
CATEGORIES:Permanence cergy
ATTACH;FMTTYPE=image/jpeg:https://www.csa95.com/wp-content/uploads/2018/02/Logo-Cergy-Rouge-e1709134736144.jpg
ORGANIZER;CN="Mairie%20Cergy":MAILTO:nadege.etaix@ville-cergy.fr
END:VEVENT
END:VCALENDAR