BEGIN:VCALENDAR
VERSION:2.0
PRODID:-//CSA95 - ECPv6.1.3//NONSGML v1.0//EN
CALSCALE:GREGORIAN
METHOD:PUBLISH
X-WR-CALNAME:CSA95
X-ORIGINAL-URL:https://www.csa95.com
X-WR-CALDESC:évènements pour CSA95
REFRESH-INTERVAL;VALUE=DURATION:PT1H
X-Robots-Tag:noindex
X-PUBLISHED-TTL:PT1H
BEGIN:VTIMEZONE
TZID:Europe/Paris
BEGIN:DAYLIGHT
TZOFFSETFROM:+0100
TZOFFSETTO:+0200
TZNAME:CEST
DTSTART:20180325T010000
END:DAYLIGHT
BEGIN:STANDARD
TZOFFSETFROM:+0200
TZOFFSETTO:+0100
TZNAME:CET
DTSTART:20181028T010000
END:STANDARD
END:VTIMEZONE
BEGIN:VEVENT
DTSTART;TZID=Europe/Paris:20180412T130000
DTEND;TZID=Europe/Paris:20180412T170000
DTSTAMP:20260423T230434
CREATED:20180409T115242Z
LAST-MODIFIED:20180409T115550Z
UID:13035-1523538000-1523552400@www.csa95.com
SUMMARY:Permanence Sarcelles
DESCRIPTION:
URL:https://www.csa95.com/agenda/permanence-sarcelles-2/
LOCATION:MJC Sarcelles\, 10 Bis Avenue Paul Valéry\,\, Sarcelles\, 95200
CATEGORIES:Permanences
ATTACH;FMTTYPE=image/jpeg:https://www.csa95.com/wp-content/uploads/2018/04/000028458-e1556183035976.jpg
ORGANIZER;CN="CSA95":MAILTO:contact@csa95.adz-preprod.fr
END:VEVENT
END:VCALENDAR