BEGIN:VCALENDAR
VERSION:2.0
PRODID:-//CSA95 - ECPv6.1.3//NONSGML v1.0//EN
CALSCALE:GREGORIAN
METHOD:PUBLISH
X-WR-CALNAME:CSA95
X-ORIGINAL-URL:https://www.csa95.com
X-WR-CALDESC:évènements pour CSA95
REFRESH-INTERVAL;VALUE=DURATION:PT1H
X-Robots-Tag:noindex
X-PUBLISHED-TTL:PT1H
BEGIN:VTIMEZONE
TZID:Europe/Paris
BEGIN:DAYLIGHT
TZOFFSETFROM:+0100
TZOFFSETTO:+0200
TZNAME:CEST
DTSTART:20180325T010000
END:DAYLIGHT
BEGIN:STANDARD
TZOFFSETFROM:+0200
TZOFFSETTO:+0100
TZNAME:CET
DTSTART:20181028T010000
END:STANDARD
END:VTIMEZONE
BEGIN:VEVENT
DTSTART;TZID=Europe/Paris:20180411T150000
DTEND;TZID=Europe/Paris:20180411T190000
DTSTAMP:20260423T230434
CREATED:20180409T114725Z
LAST-MODIFIED:20180409T115023Z
UID:13029-1523458800-1523473200@www.csa95.com
SUMMARY:Permanence Argenteuil
DESCRIPTION:Une heures une association ou un porteur de projet afin d’apporter un accompagnement individualisé.
URL:https://www.csa95.com/agenda/permanence-ville-dargenteuil/
LOCATION:Maison des associations d’Argenteuil\, Rue Albert Robidat\, Argenteuil\, Val d'Oise\, 95100\, France
CATEGORIES:Permanences
ATTACH;FMTTYPE=image/png:https://www.csa95.com/wp-content/uploads/2018/04/logo-front-e1709134299231.png
ORGANIZER;CN="CSA95":MAILTO:contact@csa95.adz-preprod.fr
END:VEVENT
END:VCALENDAR