BEGIN:VCALENDAR
VERSION:2.0
PRODID:-//CSA95 - ECPv6.1.3//NONSGML v1.0//EN
CALSCALE:GREGORIAN
METHOD:PUBLISH
X-ORIGINAL-URL:https://www.csa95.com
X-WR-CALDESC:évènements pour CSA95
REFRESH-INTERVAL;VALUE=DURATION:PT1H
X-Robots-Tag:noindex
X-PUBLISHED-TTL:PT1H
BEGIN:VTIMEZONE
TZID:Europe/Paris
BEGIN:DAYLIGHT
TZOFFSETFROM:+0100
TZOFFSETTO:+0200
TZNAME:CEST
DTSTART:20180325T010000
END:DAYLIGHT
BEGIN:STANDARD
TZOFFSETFROM:+0200
TZOFFSETTO:+0100
TZNAME:CET
DTSTART:20181028T010000
END:STANDARD
END:VTIMEZONE
BEGIN:VEVENT
DTSTART;TZID=Europe/Paris:20180313T100000
DTEND;TZID=Europe/Paris:20180313T190000
DTSTAMP:20260424T004303
CREATED:20180209T173416Z
LAST-MODIFIED:20180209T173416Z
UID:12782-1520935200-1520967600@www.csa95.com
SUMMARY:Permanence développement de projet Université Cergy Pontoise - UCP
DESCRIPTION:Une permanence à destination des étudiants de l’Université de Cergy Pontoise — UCP dans le cadre de leur UE Engagement. Des rendez-vous individualisés d’une heure pour aborder les points de préoccupations des étudiants dans leur parcours bénévole au sein des associations étudiantes. \nConsolider leurs compétences associatives permet un meilleur engagement bénévole.
URL:https://www.csa95.com/agenda/permanence-developpement-de-projet-universite-cergy-pontoise-ucp/
LOCATION:Val d'oise
CATEGORIES:Permanences
ATTACH;FMTTYPE=image/jpeg:https://www.csa95.com/wp-content/uploads/2018/02/UCP_logo_violet-e1556183213891.jpg
ORGANIZER;CN="CSA95":MAILTO:contact@csa95.adz-preprod.fr
END:VEVENT
END:VCALENDAR