BEGIN:VCALENDAR
VERSION:2.0
PRODID:-//CSA95 - ECPv6.1.3//NONSGML v1.0//EN
CALSCALE:GREGORIAN
METHOD:PUBLISH
X-ORIGINAL-URL:https://www.csa95.com
X-WR-CALDESC:évènements pour CSA95
REFRESH-INTERVAL;VALUE=DURATION:PT1H
X-Robots-Tag:noindex
X-PUBLISHED-TTL:PT1H
BEGIN:VTIMEZONE
TZID:Europe/Paris
BEGIN:DAYLIGHT
TZOFFSETFROM:+0100
TZOFFSETTO:+0200
TZNAME:CEST
DTSTART:20180325T010000
END:DAYLIGHT
BEGIN:STANDARD
TZOFFSETFROM:+0200
TZOFFSETTO:+0100
TZNAME:CET
DTSTART:20181028T010000
END:STANDARD
END:VTIMEZONE
BEGIN:VEVENT
DTSTART;TZID=Europe/Paris:20181003T100000
DTEND;TZID=Europe/Paris:20181003T190000
DTSTAMP:20260423T121634
CREATED:20180830T104923Z
LAST-MODIFIED:20180830T104923Z
UID:13356-1538560800-1538593200@www.csa95.com
SUMMARY:Permanence Dossiers de subventions Argenteuil
DESCRIPTION:Une heure une association pour un accompagnement dans l’élaboration d’un dossier de subvention \nEt ce par l’identification de l’association\, la nature et l’objet de la demande. \nPar une vue sur les relations avec l’administration ainsi que d’autres associations \nEt aussi par l’évaluation du budget et moyens humains de l’association. \nUne heure pour faire le bilan de tous les éléments qui permettrons d’avoir un dossier complet
URL:https://www.csa95.com/agenda/permanence-dossiers-de-subventions-argenteuil/
LOCATION:Maison des associations d’Argenteuil\, Rue Albert Robidat\, Argenteuil\, Val d'Oise\, 95100\, France
CATEGORIES:Permanence Argenteuil,Permanences
ATTACH;FMTTYPE=image/png:https://www.csa95.com/wp-content/uploads/2018/04/logo-front-e1709134299231.png
ORGANIZER;CN="Mairie%20Argenteuil":MAILTO:lamaisondesassociations@ville-argenteuil.fr
END:VEVENT
BEGIN:VEVENT
DTSTART;TZID=Europe/Paris:20181004T100000
DTEND;TZID=Europe/Paris:20181004T170000
DTSTAMP:20260423T121634
CREATED:20180830T105114Z
LAST-MODIFIED:20180830T105114Z
UID:13358-1538647200-1538672400@www.csa95.com
SUMMARY:Permanence Dossiers de subventions Sarcelles
DESCRIPTION:Une heure une association pour un accompagnement dans l’élaboration d’un dossier de subvention \nEt ce par l’identification de l’association\, la nature et l’objet de la demande. \nPar une vue sur les relations avec l’administration ainsi que d’autres associations \nEt aussi par l’évaluation du budget et moyens humains de l’association. \nUne heure pour faire le bilan de tous les éléments qui permettrons d’avoir un dossier complet \nPour vous inscrire\, contactez le Mjc Sarcelles  \n\n\n\n10 Bis Avenue Paul Valéry\, 95200 Sarcelles \n\nTéléphone : 01 34 04 02 80
URL:https://www.csa95.com/agenda/permanence-dossiers-de-subventions-sarcelles-2/
LOCATION:MJC Sarcelles\, 10 Bis Avenue Paul Valéry\,\, Sarcelles\, 95200
CATEGORIES:Permanence Sarcelles,Permanences
ATTACH;FMTTYPE=image/jpeg:https://www.csa95.com/wp-content/uploads/2018/04/000028458-e1556183035976.jpg
ORGANIZER;CN="Mairie%20Sarcelles":MAILTO:sarcellesassociations@yahoo.fr
END:VEVENT
BEGIN:VEVENT
DTSTART;TZID=Europe/Paris:20181010T100000
DTEND;TZID=Europe/Paris:20181010T190000
DTSTAMP:20260423T121634
CREATED:20180830T115743Z
LAST-MODIFIED:20180830T115743Z
UID:13362-1539165600-1539198000@www.csa95.com
SUMMARY:Permanence Dossiers de subventions Argenteuil
DESCRIPTION:Une heure une association pour un accompagnement dans l’élaboration d’un dossier de subvention \nEt ce par l’identification de l’association\, la nature et l’objet de la demande. \nPar une vue sur les relations avec l’administration ainsi que d’autres associations \nEt aussi par l’évaluation du budget et moyens humains de l’association. \nUne heure pour faire le bilan de tous les éléments qui permettrons d’avoir un dossier complet
URL:https://www.csa95.com/agenda/permanence-dossiers-de-subventions-argenteuil-2/
LOCATION:Maison des associations d’Argenteuil\, Rue Albert Robidat\, Argenteuil\, Val d'Oise\, 95100\, France
CATEGORIES:Permanence Argenteuil,Permanences
ATTACH;FMTTYPE=image/png:https://www.csa95.com/wp-content/uploads/2018/04/logo-front-e1709134299231.png
ORGANIZER;CN="Mairie%20Argenteuil":MAILTO:lamaisondesassociations@ville-argenteuil.fr
END:VEVENT
BEGIN:VEVENT
DTSTART;TZID=Europe/Paris:20181011T150000
DTEND;TZID=Europe/Paris:20181011T190000
DTSTAMP:20260423T121634
CREATED:20180830T120241Z
LAST-MODIFIED:20180830T120241Z
UID:13366-1539270000-1539284400@www.csa95.com
SUMMARY:Permanence Comptabilité Associative
DESCRIPTION:Une permanence comptabilité à destination des associations de la commune de Cergy. \nUne heure par porteur de projet pour professionnaliser leur pratique et formaliser leur comptabilité. \nLes points abordés : \nComment produire son budget prévisionnel\, son compte de résultat et son bilan comptable.
URL:https://www.csa95.com/agenda/permanence-comptabilite-associative-3/
LOCATION:mairie Cergy\, 3 Place Olympe de Gouges\, Cergy\, Val d'oise\, 95800\, France
CATEGORIES:Permanence cergy,Permanences
ATTACH;FMTTYPE=image/jpeg:https://www.csa95.com/wp-content/uploads/2018/02/Logo-Cergy-Rouge-e1709134736144.jpg
ORGANIZER;CN="Mairie%20Cergy":MAILTO:nadege.etaix@ville-cergy.fr
END:VEVENT
BEGIN:VEVENT
DTSTART;TZID=Europe/Paris:20181017T100000
DTEND;TZID=Europe/Paris:20181017T190000
DTSTAMP:20260423T121634
CREATED:20180830T121019Z
LAST-MODIFIED:20180830T121019Z
UID:13373-1539770400-1539802800@www.csa95.com
SUMMARY:Permanence Dossiers de subventions
DESCRIPTION:Une heure une association pour un accompagnement dans l’élaboration d’un dossier de subvention \nEt ce par l’identification de l’association\, la nature et l’objet de la demande. \nPar une vue sur les relations avec l’administration ainsi que d’autres associations \nEt aussi par l’évaluation du budget et moyens humains de l’association. \nUne heure pour faire le bilan de tous les éléments qui permettrons d’avoir un dossier complet
URL:https://www.csa95.com/agenda/permanence-dossiers-de-subventions/
LOCATION:Maison des associations d’Argenteuil\, Rue Albert Robidat\, Argenteuil\, Val d'Oise\, 95100\, France
CATEGORIES:Permanence Argenteuil,Permanences
ATTACH;FMTTYPE=image/png:https://www.csa95.com/wp-content/uploads/2018/04/logo-front-e1709134299231.png
ORGANIZER;CN="Mairie%20Argenteuil":MAILTO:lamaisondesassociations@ville-argenteuil.fr
END:VEVENT
BEGIN:VEVENT
DTSTART;TZID=Europe/Paris:20181018T150000
DTEND;TZID=Europe/Paris:20181018T190000
DTSTAMP:20260423T121634
CREATED:20180830T121853Z
LAST-MODIFIED:20180830T121853Z
UID:13380-1539874800-1539889200@www.csa95.com
SUMMARY:Permanence Comptabilité Associative
DESCRIPTION:Une permanence comptabilité à destination des associations de la commune de Cergy. \nUne heure par porteur de projet pour professionnaliser leur pratique et formaliser leur comptabilité. \nLes points abordés : \nComment produire son budget prévisionnel\, son compte de résultat et son bilan comptable.
URL:https://www.csa95.com/agenda/permanence-comptabilite-associative-4/
LOCATION:mairie Cergy\, 3 Place Olympe de Gouges\, Cergy\, Val d'oise\, 95800\, France
CATEGORIES:Permanence cergy
ATTACH;FMTTYPE=image/jpeg:https://www.csa95.com/wp-content/uploads/2018/02/Logo-Cergy-Rouge-e1709134736144.jpg
ORGANIZER;CN="Mairie%20Cergy":MAILTO:nadege.etaix@ville-cergy.fr
END:VEVENT
BEGIN:VEVENT
DTSTART;TZID=Europe/Paris:20181024T140000
DTEND;TZID=Europe/Paris:20181024T180000
DTSTAMP:20260423T121634
CREATED:20180830T162906Z
LAST-MODIFIED:20180830T163335Z
UID:13389-1540389600-1540404000@www.csa95.com
SUMMARY:Permanence Évaluer et Valoriser ses actions
DESCRIPTION:L’objectif est de définir une démarche de projet\, évaluer les phases du projet pour mieux valoriser vos actions et votre projet associatif \n\n\n\n\n\nInscriptions auprès du CDRA\n\n\n\n1 Avenue du plein Midi\, 95140 Garges-lès-Gonesse\n\n\n\n\nTéléphone : 01 34 53 31 40
URL:https://www.csa95.com/agenda/permanence-evaluer-et-valoriser-ses-actions/
LOCATION:CDRA Centre de Ressources pour les Associations\, 2 rue Jean-Jacques Rousseau\, Garges-lès-Gonesse\, Val d'oise\, 95140\, France
CATEGORIES:Permanences
ATTACH;FMTTYPE=image/jpeg:https://www.csa95.com/wp-content/uploads/2018/04/image002-e1556183020456.jpg
END:VEVENT
END:VCALENDAR