BEGIN:VCALENDAR
VERSION:2.0
PRODID:-//CSA95 - ECPv6.1.3//NONSGML v1.0//EN
CALSCALE:GREGORIAN
METHOD:PUBLISH
X-WR-CALNAME:CSA95
X-ORIGINAL-URL:https://www.csa95.com
X-WR-CALDESC:évènements pour CSA95
REFRESH-INTERVAL;VALUE=DURATION:PT1H
X-Robots-Tag:noindex
X-PUBLISHED-TTL:PT1H
BEGIN:VTIMEZONE
TZID:Europe/Paris
BEGIN:DAYLIGHT
TZOFFSETFROM:+0100
TZOFFSETTO:+0200
TZNAME:CEST
DTSTART:20180325T010000
END:DAYLIGHT
BEGIN:STANDARD
TZOFFSETFROM:+0200
TZOFFSETTO:+0100
TZNAME:CET
DTSTART:20181028T010000
END:STANDARD
END:VTIMEZONE
BEGIN:VEVENT
DTSTART;TZID=Europe/Paris:20180215T100000
DTEND;TZID=Europe/Paris:20180215T190000
DTSTAMP:20260424T003835
CREATED:20180209T172007Z
LAST-MODIFIED:20180209T172007Z
UID:12775-1518688800-1518721200@www.csa95.com
SUMMARY:Permanence juridique associative à Sarcelles
DESCRIPTION:Une permanence de soutien juridique à destination des associations de la commune de Sarcelles. \nInscription auprès du service Vie Associative de Sarcelles.
URL:https://www.csa95.com/agenda/permanence-juridique-associative-a-sarcelles/
LOCATION:Val d'oise
CATEGORIES:Permanence Sarcelles,Permanences
ATTACH;FMTTYPE=image/jpeg:https://www.csa95.com/wp-content/uploads/2018/02/logo_sarcelles1.jpg
ORGANIZER;CN="CSA95":MAILTO:contact@csa95.adz-preprod.fr
END:VEVENT
BEGIN:VEVENT
DTSTART;TZID=Europe/Paris:20180221T150000
DTEND;TZID=Europe/Paris:20180221T190000
DTSTAMP:20260424T003835
CREATED:20180209T165829Z
LAST-MODIFIED:20180209T165829Z
UID:12769-1519225200-1519239600@www.csa95.com
SUMMARY:Permanence juridique associative à Argenteuil
DESCRIPTION:Dans le cadre du soutien aux associations de la commune d’Argenteuil\, une permanence juridique associative permet aux porteurs de projet d’avoir une aide et ainsi faciliter le développement de leur association.
URL:https://www.csa95.com/agenda/permanence-juridique-associative-a-argenteuil/
LOCATION:Val d'oise
CATEGORIES:Permanence Argenteuil
ATTACH;FMTTYPE=image/jpeg:https://www.csa95.com/wp-content/uploads/2018/02/LOGO-ARGENTEUIL.jpg
ORGANIZER;CN="CSA95":MAILTO:contact@csa95.adz-preprod.fr
END:VEVENT
END:VCALENDAR