BEGIN:VCALENDAR
VERSION:2.0
PRODID:-//CSA95 - ECPv6.1.3//NONSGML v1.0//EN
CALSCALE:GREGORIAN
METHOD:PUBLISH
X-WR-CALNAME:CSA95
X-ORIGINAL-URL:https://www.csa95.com
X-WR-CALDESC:évènements pour CSA95
REFRESH-INTERVAL;VALUE=DURATION:PT1H
X-Robots-Tag:noindex
X-PUBLISHED-TTL:PT1H
BEGIN:VTIMEZONE
TZID:Europe/Paris
BEGIN:DAYLIGHT
TZOFFSETFROM:+0100
TZOFFSETTO:+0200
TZNAME:CEST
DTSTART:20170326T010000
END:DAYLIGHT
BEGIN:STANDARD
TZOFFSETFROM:+0200
TZOFFSETTO:+0100
TZNAME:CET
DTSTART:20171029T010000
END:STANDARD
END:VTIMEZONE
BEGIN:VEVENT
DTSTART;TZID=Europe/Paris:20170622T133000
DTEND;TZID=Europe/Paris:20170622T170000
DTSTAMP:20260424T151517
CREATED:20170426T125023Z
LAST-MODIFIED:20170426T125023Z
UID:12562-1498138200-1498150800@www.csa95.com
SUMMARY:Permanence Sarcelles
DESCRIPTION:
URL:https://www.csa95.com/agenda/permanence-sarcelles/
LOCATION:Val d'oise
CATEGORIES:Permanence Sarcelles,Permanences
END:VEVENT
END:VCALENDAR