BEGIN:VCALENDAR
VERSION:2.0
PRODID:-//CSA95 - ECPv6.1.3//NONSGML v1.0//EN
CALSCALE:GREGORIAN
METHOD:PUBLISH
X-ORIGINAL-URL:https://www.csa95.com
X-WR-CALDESC:évènements pour CSA95
REFRESH-INTERVAL;VALUE=DURATION:PT1H
X-Robots-Tag:noindex
X-PUBLISHED-TTL:PT1H
BEGIN:VTIMEZONE
TZID:Europe/Paris
BEGIN:DAYLIGHT
TZOFFSETFROM:+0100
TZOFFSETTO:+0200
TZNAME:CEST
DTSTART:20170326T010000
END:DAYLIGHT
BEGIN:STANDARD
TZOFFSETFROM:+0200
TZOFFSETTO:+0100
TZNAME:CET
DTSTART:20171029T010000
END:STANDARD
END:VTIMEZONE
BEGIN:VEVENT
DTSTART;TZID=Europe/Paris:20170530T183000
DTEND;TZID=Europe/Paris:20170530T210000
DTSTAMP:20260424T233555
CREATED:20170426T124838Z
LAST-MODIFIED:20170426T124838Z
UID:12558-1496169000-1496178000@www.csa95.com
SUMMARY:Formation comptabilité - Sarcelles
DESCRIPTION:
URL:https://www.csa95.com/agenda/formation-comptabilite-sarcelles/
LOCATION:Val d'Oise
CATEGORIES:Formation,Formation Sarcelles,Formation ville
END:VEVENT
END:VCALENDAR