BEGIN:VCALENDAR
VERSION:2.0
PRODID:-//CSA95 - ECPv6.1.3//NONSGML v1.0//EN
CALSCALE:GREGORIAN
METHOD:PUBLISH
X-WR-CALNAME:CSA95
X-ORIGINAL-URL:https://www.csa95.com
X-WR-CALDESC:évènements pour CSA95
REFRESH-INTERVAL;VALUE=DURATION:PT1H
X-Robots-Tag:noindex
X-PUBLISHED-TTL:PT1H
BEGIN:VTIMEZONE
TZID:Europe/Paris
BEGIN:DAYLIGHT
TZOFFSETFROM:+0100
TZOFFSETTO:+0200
TZNAME:CEST
DTSTART:20180325T010000
END:DAYLIGHT
BEGIN:STANDARD
TZOFFSETFROM:+0200
TZOFFSETTO:+0100
TZNAME:CET
DTSTART:20181028T010000
END:STANDARD
END:VTIMEZONE
BEGIN:VEVENT
DTSTART;TZID=Europe/Paris:20180517T140000
DTEND;TZID=Europe/Paris:20180517T170000
DTSTAMP:20260424T021301
CREATED:20180516T095307Z
LAST-MODIFIED:20180516T095307Z
UID:13084-1526565600-1526576400@www.csa95.com
SUMMARY:Formation à Sarcelles "La comptabilité associative"
DESCRIPTION:Les compétences acquises sont liées à la connaissance des spécificités et des règles relatives aux associations. L’exploitation d’une typologie permet d’éclairer le panorama associatif et d’avoir une compréhension fine des pratiques différenciées de gestion. Cette compréhension ouvre sur la maîtrise des enjeux généraux de la gouvernance des associations. \nProgramme détaillé : https://www.csa95.com/wp-content/uploads/2017/05/01Comptabilite_CSA95.pdf \nPROGRAMME : \n\nGénéralités\nOrganisation comptable\nDocuments comptables\nRapports annuels\n\n\n\n\n\nOBJECTIFS \n\nConnaître les fondamentaux d’une gestion comptable maitrisée\nAppréhender le cadre règlementaire\n\nPOINTS FORTS \n\nEchanges d’expériences pour une meilleure appropriation des enjeux comptables\nRemise d’outils comptables élaborés sur Excel par le CSA95
URL:https://www.csa95.com/agenda/formation-a-sarcelles-la-comptabilite-associative/
LOCATION:Francilien 3 Boulevard Albert Camus\, 95200 Sarcelles\, France\, 3 Boulevard Albert Camus\, Sarcelles\, Val d'Oise\, 95200
CATEGORIES:Formation Sarcelles
ATTACH;FMTTYPE=image/jpeg:https://www.csa95.com/wp-content/uploads/2018/04/000028458-e1556183035976.jpg
ORGANIZER;CN="Mairie%20Sarcelles":MAILTO:sarcellesassociations@yahoo.fr
END:VEVENT
END:VCALENDAR